BEGIN:VCALENDAR
VERSION:2.0
PRODID:-//United Way of Calgary and Area - ECPv6.15.17.1//NONSGML v1.0//EN
CALSCALE:GREGORIAN
METHOD:PUBLISH
X-WR-CALNAME:United Way of Calgary and Area
X-ORIGINAL-URL:https://calgaryunitedway.org
X-WR-CALDESC:Events for United Way of Calgary and Area
REFRESH-INTERVAL;VALUE=DURATION:PT1H
X-Robots-Tag:noindex
X-PUBLISHED-TTL:PT1H
BEGIN:VTIMEZONE
TZID:America/Edmonton
BEGIN:DAYLIGHT
TZOFFSETFROM:-0700
TZOFFSETTO:-0600
TZNAME:MDT
DTSTART:20240310T090000
END:DAYLIGHT
BEGIN:STANDARD
TZOFFSETFROM:-0600
TZOFFSETTO:-0700
TZNAME:MST
DTSTART:20241103T080000
END:STANDARD
BEGIN:DAYLIGHT
TZOFFSETFROM:-0700
TZOFFSETTO:-0600
TZNAME:MDT
DTSTART:20250309T090000
END:DAYLIGHT
BEGIN:STANDARD
TZOFFSETFROM:-0600
TZOFFSETTO:-0700
TZNAME:MST
DTSTART:20251102T080000
END:STANDARD
BEGIN:DAYLIGHT
TZOFFSETFROM:-0700
TZOFFSETTO:-0600
TZNAME:MDT
DTSTART:20260308T090000
END:DAYLIGHT
BEGIN:STANDARD
TZOFFSETFROM:-0600
TZOFFSETTO:-0700
TZNAME:MST
DTSTART:20261101T080000
END:STANDARD
END:VTIMEZONE
BEGIN:VEVENT
DTSTART;TZID=America/Edmonton:20250409T170000
DTEND;TZID=America/Edmonton:20250409T200000
DTSTAMP:20260423T231524
CREATED:20250211T162003Z
LAST-MODIFIED:20250225T204752Z
UID:10000366-1744218000-1744228800@calgaryunitedway.org
SUMMARY:United She Can: Rising Voices\, Building Hope
DESCRIPTION:This inaugural signature event is a celebration of our collective impact as women\, and allies\, in philanthropy over the past year as well AND an opportunity to create connections with peers to inspire dialogue and collaboration into the future. \n\nEvent highlights include: \n\nInspiring activations that provide strategies to lead with authenticity\nNetworking with fellow changemakers\nAn exquisite tasting and entertainment provided by local women entrepreneurs and entertainers (#supportlocal)\nA SURPRISE program launch to celebrate amazing women in your life!\n\n\nFREE ON-SITE CHILDCARE\nIn an effort to be accessible to all\, United Way is offering on-site child care to parents and guardians who would like to attend the event. If you require child care during this event\, please indicate your need when purchasing tickets. \n\n	Get Tickets Here 	\n\n    To maximize donations to have the greatest impact on women and girls in our community\, tickets are priced at $50 each to help recover event costs. \n\nTHANK YOU TO OUR EVENT SPONSOR – TD SECURITIES
URL:https://calgaryunitedway.org/event/united-she-can-rising-voices-building-hope/
LOCATION:The Pioneer\, 117 8 Avenue Southwest\, Calgary\, AB\, T2P 1B4\, Canada
ATTACH;FMTTYPE=image/jpeg:https://calgaryunitedway.org/wp-content/uploads/2025/02/UnitedSheCan.jpeg
ORGANIZER;CN="United Way of Calgary and Area":MAILTO:uway@calgaryunitedway.org
END:VEVENT
END:VCALENDAR