BEGIN:VCALENDAR
VERSION:2.0
PRODID:-//United Way of Calgary and Area - ECPv6.15.17.1//NONSGML v1.0//EN
CALSCALE:GREGORIAN
METHOD:PUBLISH
X-ORIGINAL-URL:https://calgaryunitedway.org
X-WR-CALDESC:Events for United Way of Calgary and Area
REFRESH-INTERVAL;VALUE=DURATION:PT1H
X-Robots-Tag:noindex
X-PUBLISHED-TTL:PT1H
BEGIN:VTIMEZONE
TZID:America/Edmonton
BEGIN:DAYLIGHT
TZOFFSETFROM:-0700
TZOFFSETTO:-0600
TZNAME:MDT
DTSTART:20240310T090000
END:DAYLIGHT
BEGIN:STANDARD
TZOFFSETFROM:-0600
TZOFFSETTO:-0700
TZNAME:MST
DTSTART:20241103T080000
END:STANDARD
BEGIN:DAYLIGHT
TZOFFSETFROM:-0700
TZOFFSETTO:-0600
TZNAME:MDT
DTSTART:20250309T090000
END:DAYLIGHT
BEGIN:STANDARD
TZOFFSETFROM:-0600
TZOFFSETTO:-0700
TZNAME:MST
DTSTART:20251102T080000
END:STANDARD
BEGIN:DAYLIGHT
TZOFFSETFROM:-0700
TZOFFSETTO:-0600
TZNAME:MDT
DTSTART:20260308T090000
END:DAYLIGHT
BEGIN:STANDARD
TZOFFSETFROM:-0600
TZOFFSETTO:-0700
TZNAME:MST
DTSTART:20261101T080000
END:STANDARD
END:VTIMEZONE
BEGIN:VEVENT
DTSTART;TZID=America/Edmonton:20250828T130000
DTEND;TZID=America/Edmonton:20250828T160000
DTSTAMP:20260419T092938
CREATED:20250703T144401Z
LAST-MODIFIED:20250717T205641Z
UID:10000371-1756386000-1756396800@calgaryunitedway.org
SUMMARY:Outdoor Day of Caring at Camp Bonaventure
DESCRIPTION:A United Way of Calgary and Area Community Engagement Event \n\n\n    Join us for an inspiring Day of Caring\, and be part of a community-driven initiative where you can make a real difference. \nFor this Day of Caring\, you’ll have the chance to learn about the impactful work being done by a partner agency\, Between Friends\, at their Camp Bonaventure they run during the summer months. Volunteers will get hands-on\, helping with maintenance\, landscaping and other outdoor tasks to support with the end of camp season. \nYour efforts will directly support those in need and help create a positive change in the community! \n\nRegistration Information: If you are attending this Day of Caring from a workplace\, due to capacity we ask that no more than 4 team members sign up for this activity. If there is additional space\, we will reach out. After registering for a free ticket\, you will receive a calendar invite to the email you provided that includes all Day of Caring details\, including important parking and check-in details. \n\nBetween Friends provides quality social\, recreation and development opportunities so that people with disabilities can connect\, grow and belong. Camp Bonaventure is a fun outdoor summer day camp for youth ages 4-17 that runs in July and August. \n\n\n	Register today
URL:https://calgaryunitedway.org/event/outdoor-day-of-caring-at-camp-bonaventure/
LOCATION:Camp Bonaventure\, 1215 50 Avenue Southwest\, Calgary\, Alberta\, T2T 2V8\, Canada
CATEGORIES:Community Events
ATTACH;FMTTYPE=image/jpeg:https://calgaryunitedway.org/wp-content/uploads/2025/06/camp_bonaventure_banner.jpg
ORGANIZER;CN="United Way of Calgary and Area":MAILTO:uway@calgaryunitedway.org
END:VEVENT
END:VCALENDAR